BEGIN:VCALENDAR
VERSION:2.0
PRODID:-//Aberdeenshire Community Recovery SCIO - ECPv6.15.20//NONSGML v1.0//EN
CALSCALE:GREGORIAN
METHOD:PUBLISH
X-ORIGINAL-URL:https://acr.scot
X-WR-CALDESC:Events for Aberdeenshire Community Recovery SCIO
REFRESH-INTERVAL;VALUE=DURATION:PT1H
X-Robots-Tag:noindex
X-PUBLISHED-TTL:PT1H
BEGIN:VTIMEZONE
TZID:Europe/London
BEGIN:DAYLIGHT
TZOFFSETFROM:+0000
TZOFFSETTO:+0100
TZNAME:BST
DTSTART:20240331T010000
END:DAYLIGHT
BEGIN:STANDARD
TZOFFSETFROM:+0100
TZOFFSETTO:+0000
TZNAME:GMT
DTSTART:20241027T010000
END:STANDARD
BEGIN:DAYLIGHT
TZOFFSETFROM:+0000
TZOFFSETTO:+0100
TZNAME:BST
DTSTART:20250330T010000
END:DAYLIGHT
BEGIN:STANDARD
TZOFFSETFROM:+0100
TZOFFSETTO:+0000
TZNAME:GMT
DTSTART:20251026T010000
END:STANDARD
BEGIN:DAYLIGHT
TZOFFSETFROM:+0000
TZOFFSETTO:+0100
TZNAME:BST
DTSTART:20260329T010000
END:DAYLIGHT
BEGIN:STANDARD
TZOFFSETFROM:+0100
TZOFFSETTO:+0000
TZNAME:GMT
DTSTART:20261025T010000
END:STANDARD
END:VTIMEZONE
BEGIN:VEVENT
DTSTART;TZID=Europe/London:20250627T093000
DTEND;TZID=Europe/London:20250627T133000
DTSTAMP:20260421T173408
CREATED:20250615T130359Z
LAST-MODIFIED:20250615T132503Z
UID:239-1751016600-1751031000@acr.scot
SUMMARY:Friday Brunch visit Creative Wellbeing Day @ Ellon
DESCRIPTION:The Friday Brunch group are organising a trip to attend Scottish Families Affected by Drugs and Alcohol’ (SFAD) Creative Wellbeing Day and Ellon Kirk Centre. \nCome along to SFAD’s Creative Wellbeing Day as part of Scottish Families Affected by Alcohol & Drugs Celebrating Families Week. A day of relaxation\, creativity\, and a chance to wind down with a cuppa. Take a look at our Trybooking page to book your slot! \nhttps://www.trybooking.com/uk/EVFM
URL:https://acr.scot/event/friday-brunch-visit-creative-wellbeing-day-ellon/
LOCATION:Ellon Kirk Centre\, Station Rd.\, Ellon\, AB41 9AE\, United Kingdom
CATEGORIES:Special Events
END:VEVENT
END:VCALENDAR