BEGIN:VCALENDAR
VERSION:2.0
PRODID:-//Aberdeenshire Community Recovery SCIO - ECPv6.15.20//NONSGML v1.0//EN
CALSCALE:GREGORIAN
METHOD:PUBLISH
X-ORIGINAL-URL:https://acr.scot
X-WR-CALDESC:Events for Aberdeenshire Community Recovery SCIO
REFRESH-INTERVAL;VALUE=DURATION:PT1H
X-Robots-Tag:noindex
X-PUBLISHED-TTL:PT1H
BEGIN:VTIMEZONE
TZID:Europe/London
BEGIN:DAYLIGHT
TZOFFSETFROM:+0000
TZOFFSETTO:+0100
TZNAME:BST
DTSTART:20240331T010000
END:DAYLIGHT
BEGIN:STANDARD
TZOFFSETFROM:+0100
TZOFFSETTO:+0000
TZNAME:GMT
DTSTART:20241027T010000
END:STANDARD
BEGIN:DAYLIGHT
TZOFFSETFROM:+0000
TZOFFSETTO:+0100
TZNAME:BST
DTSTART:20250330T010000
END:DAYLIGHT
BEGIN:STANDARD
TZOFFSETFROM:+0100
TZOFFSETTO:+0000
TZNAME:GMT
DTSTART:20251026T010000
END:STANDARD
BEGIN:DAYLIGHT
TZOFFSETFROM:+0000
TZOFFSETTO:+0100
TZNAME:BST
DTSTART:20260329T010000
END:DAYLIGHT
BEGIN:STANDARD
TZOFFSETFROM:+0100
TZOFFSETTO:+0000
TZNAME:GMT
DTSTART:20261025T010000
END:STANDARD
END:VTIMEZONE
BEGIN:VEVENT
DTSTART;TZID=Europe/London:20250704T103000
DTEND;TZID=Europe/London:20250704T123000
DTSTAMP:20260421T183026
CREATED:20250615T125046Z
LAST-MODIFIED:20250615T125046Z
UID:237-1751625000-1751632200@acr.scot
SUMMARY:Friday Brunch
DESCRIPTION:Friday Brunch offers connection\, friendship and a space to speak freely in a warm\, safe\, non-judgemental environment.
URL:https://acr.scot/event/friday-brunch-2/
LOCATION:Aberdeenshire Wellbeing Hub\, Unit 2\, Huntly Business Centre\, Gordon St.\, Huntly\, AB54 8FG\, United Kingdom
CATEGORIES:Regular Groups
END:VEVENT
BEGIN:VEVENT
DTSTART;TZID=Europe/London:20250620T103000
DTEND;TZID=Europe/London:20250620T123000
DTSTAMP:20260421T183026
CREATED:20250614T084733Z
LAST-MODIFIED:20250615T124851Z
UID:230-1750415400-1750422600@acr.scot
SUMMARY:Friday Brunch
DESCRIPTION:Friday Brunch offers connection\, friendship and a space to speak freely in a warm\, safe\, non-judgemental environment.
URL:https://acr.scot/event/friday-brunch/
LOCATION:Aberdeenshire Wellbeing Hub\, Unit 2\, Huntly Business Centre\, Gordon St.\, Huntly\, AB54 8FG\, United Kingdom
CATEGORIES:Regular Groups
END:VEVENT
END:VCALENDAR